BEGIN:VCALENDAR
VERSION:2.0
PRODID:-//wp-events-plugin.com//7.2.3.1//EN
TZID:Europe/Berlin
X-WR-TIMEZONE:Europe/Berlin
BEGIN:VEVENT
UID:61@mvlyra.de
DTSTART;TZID=Europe/Berlin:20251231T181500
DTEND;TZID=Europe/Berlin:20251231T191500
DTSTAMP:20251123T182811Z
URL:https://mvlyra.de/termine/altjahrabendfeier-am-kirchplatz-in-eltingen/
SUMMARY:Altjahrabendfeier am Kirchplatz Eltingen
DESCRIPTION:Altjahrabendfeier in Eltingen
ATTACH;FMTTYPE=image/jpeg:https://mvlyra.de/wp-content/uploads/2023/12/1-A
 ltjahr-Eltingen-1.jpg
CATEGORIES:allgemein,Großes Blasorchester
LOCATION:71229 Leonberg\, Kirchbachstraße 11\, Leonberg\, Baden-Württembe
 rg\, 71229\, Deutschland
X-APPLE-STRUCTURED-LOCATION;VALUE=URI;X-ADDRESS=Kirchbachstraße 11\, Leonb
 erg\, Baden-Württemberg\, 71229\, Deutschland;X-APPLE-RADIUS=100;X-TITLE=
 71229 Leonberg:geo:0,0
END:VEVENT
BEGIN:VTIMEZONE
TZID:Europe/Berlin
X-LIC-LOCATION:Europe/Berlin
BEGIN:STANDARD
DTSTART:20251026T020000
TZOFFSETFROM:+0200
TZOFFSETTO:+0100
TZNAME:CET
END:STANDARD
END:VTIMEZONE
END:VCALENDAR