BEGIN:VCALENDAR
VERSION:2.0
PRODID:-//wp-events-plugin.com//7.2.3.1//EN
TZID:Europe/Berlin
X-WR-TIMEZONE:Europe/Berlin
BEGIN:VEVENT
UID:60@mvlyra.de
DTSTART;TZID=Europe/Berlin:20251231T170000
DTEND;TZID=Europe/Berlin:20251231T180000
DTSTAMP:20251123T182322Z
URL:https://mvlyra.de/termine/altjahrabendfeier-am-rathausplatz-leonberg/
SUMMARY:Altjahrabendfeier auf dem Marktplatz Leonberg
DESCRIPTION:Altjahrabendfeier in Leonberg
ATTACH;FMTTYPE=image/jpeg:https://mvlyra.de/wp-content/uploads/2023/12/jao
 zao3m.png
CATEGORIES:allgemein,Großes Blasorchester
LOCATION:71229 Leonberg\, Marktplatz 12\, 71229 Leonberg\, Leonberg\, Baden
 -Württemberg\, 71229\, Deutschland
X-APPLE-STRUCTURED-LOCATION;VALUE=URI;X-ADDRESS=Marktplatz 12\, 71229 Leonb
 erg\, Leonberg\, Baden-Württemberg\, 71229\, Deutschland;X-APPLE-RADIUS=1
 00;X-TITLE=71229 Leonberg:geo:0,0
END:VEVENT
BEGIN:VTIMEZONE
TZID:Europe/Berlin
X-LIC-LOCATION:Europe/Berlin
BEGIN:STANDARD
DTSTART:20251026T020000
TZOFFSETFROM:+0200
TZOFFSETTO:+0100
TZNAME:CET
END:STANDARD
END:VTIMEZONE
END:VCALENDAR