BEGIN:VCALENDAR
VERSION:2.0
PRODID:-//wp-events-plugin.com//7.2.3.1//EN
TZID:Europe/Berlin
X-WR-TIMEZONE:Europe/Berlin
BEGIN:VEVENT
UID:56@mvlyra.de
DTSTART;TZID=Europe/Berlin:20251005T110000
DTEND;TZID=Europe/Berlin:20251005T130000
DTSTAMP:20250831T093821Z
URL:https://mvlyra.de/termine/autoschau-leonberg-2025/
SUMMARY:Erntedank in der Ramtelkirche
DESCRIPTION:05.Oktober 2025 10:00-12:00 Erntedank Gottesdienst in der Vers
 öhnungskirche im Ramtel unter der Begleitung der Lyra. 
ATTACH;FMTTYPE=image/jpeg:https://mvlyra.de/wp-content/uploads/2023/08/ver
 soehnungskirche.jpg
CATEGORIES:allgemein,Großes Blasorchester
LOCATION:Steinstraße 71229 Leonberg\, Steinstraße \, Leonberg\, BW\, 7122
 9\, BW\, Deutschland
X-APPLE-STRUCTURED-LOCATION;VALUE=URI;X-ADDRESS=Steinstraße \, Leonberg\, 
 BW\, 71229\, BW\, Deutschland;X-APPLE-RADIUS=100;X-TITLE=Steinstraße 7122
 9 Leonberg:geo:0,0
END:VEVENT
BEGIN:VTIMEZONE
TZID:Europe/Berlin
X-LIC-LOCATION:Europe/Berlin
BEGIN:DAYLIGHT
DTSTART:20250330T030000
TZOFFSETFROM:+0100
TZOFFSETTO:+0200
TZNAME:CEST
END:DAYLIGHT
END:VTIMEZONE
END:VCALENDAR