BEGIN:VCALENDAR
VERSION:2.0
PRODID:-//wp-events-plugin.com//7.2.3.1//EN
TZID:Europe/Berlin
X-WR-TIMEZONE:Europe/Berlin
BEGIN:VEVENT
UID:67@mvlyra.de
DTSTART;TZID=Europe/Berlin:20260310T200000
DTEND;TZID=Europe/Berlin:20260310T220000
DTSTAMP:20260203T060359Z
URL:https://mvlyra.de/termine/hauptversammlung-der-lyra-im-eltinger-hof/
SUMMARY:Hauptversammlung der Lyra im Eltinger Hof (intern)
DESCRIPTION:10.März 20:00-22:00 Uhr Hauptversammlung der Lyra
ATTACH;FMTTYPE=image/jpeg:https://mvlyra.de/wp-content/uploads/2023/12/hau
 ptversammlung.jpg
CATEGORIES:Großes Blasorchester
LOCATION:Vereinsheim Eltinger Hof\, Hertichstraße 30\, 71229 Leonberg\, De
 utschland
X-APPLE-STRUCTURED-LOCATION;VALUE=URI;X-ADDRESS=Hertichstraße 30\, 71229 L
 eonberg\, Deutschland;X-APPLE-RADIUS=100;X-TITLE=Vereinsheim Eltinger Hof:
 geo:0,0
END:VEVENT
BEGIN:VTIMEZONE
TZID:Europe/Berlin
X-LIC-LOCATION:Europe/Berlin
BEGIN:STANDARD
DTSTART:20251026T020000
TZOFFSETFROM:+0200
TZOFFSETTO:+0100
TZNAME:CET
END:STANDARD
END:VTIMEZONE
END:VCALENDAR