BEGIN:VCALENDAR
VERSION:2.0
PRODID:-//wp-events-plugin.com//7.2.3.1//EN
TZID:Europe/Berlin
X-WR-TIMEZONE:Europe/Berlin
BEGIN:VEVENT
UID:62@mvlyra.de
DTSTART;TZID=Europe/Berlin;VALUE=DATE:20251025
DTEND;TZID=Europe/Berlin;VALUE=DATE:20251027
DTSTAMP:20251026T061548Z
URL:https://mvlyra.de/termine/jugendfreizeit-in-baden-baden/
SUMMARY:Jugendfreizeit in Baden-Baden
DESCRIPTION:Jugendfreizeit Baden-Baden
ATTACH;FMTTYPE=image/jpeg:https://mvlyra.de/wp-content/uploads/2025/10/Fre
 izeit2025-1.png
CATEGORIES:Großes Blasorchester,Jugendorchester
END:VEVENT
BEGIN:VTIMEZONE
TZID:Europe/Berlin
X-LIC-LOCATION:Europe/Berlin
BEGIN:DAYLIGHT
DTSTART:20250330T030000
TZOFFSETFROM:+0100
TZOFFSETTO:+0200
TZNAME:CEST
END:DAYLIGHT
BEGIN:STANDARD
DTSTART:20251026T020000
TZOFFSETFROM:+0200
TZOFFSETTO:+0100
TZNAME:CET
END:STANDARD
END:VTIMEZONE
END:VCALENDAR