BEGIN:VCALENDAR
VERSION:2.0
PRODID:-//wp-events-plugin.com//7.2.3.1//EN
TZID:Europe/Berlin
X-WR-TIMEZONE:Europe/Berlin
BEGIN:VEVENT
UID:51@mvlyra.de
DTSTART;TZID=Europe/Berlin;VALUE=DATE:20250517
DTEND;TZID=Europe/Berlin;VALUE=DATE:20250518
DTSTAMP:20250508T203758Z
URL:https://mvlyra.de/termine/klettergartentermin-fuer-die-jugend/
SUMMARY:Klettergartentermin für die Jugend
DESCRIPTION:Klettergarten Ausflug von der Lyrajugend
ATTACH;FMTTYPE=image/jpeg:https://mvlyra.de/wp-content/uploads/2025/05/Kle
 ttergarten.jpg
CATEGORIES:Jugendorchester
LOCATION:https://www.freizeitparkrutesheim.de/de/hochseilgarten-rutesheim.p
 hp
END:VEVENT
BEGIN:VTIMEZONE
TZID:Europe/Berlin
X-LIC-LOCATION:Europe/Berlin
BEGIN:DAYLIGHT
DTSTART:20250330T030000
TZOFFSETFROM:+0100
TZOFFSETTO:+0200
TZNAME:CEST
END:DAYLIGHT
END:VTIMEZONE
END:VCALENDAR