BEGIN:VCALENDAR
VERSION:2.0
PRODID:-//wp-events-plugin.com//7.2.3.1//EN
TZID:Europe/Berlin
X-WR-TIMEZONE:Europe/Berlin
BEGIN:VEVENT
UID:50@mvlyra.de
DTSTART;TZID=Europe/Berlin:20250520T183000
DTEND;TZID=Europe/Berlin:20250525T193000
DTSTAMP:20250508T204336Z
URL:https://mvlyra.de/termine/offene-probe-20-27-mai/
SUMMARY:Offene Probe 20.+27.Mai
DESCRIPTION:Offene Probe bei der Lyra im Vereinsheim Eltinger Hof
ATTACH;FMTTYPE=image/jpeg:https://mvlyra.de/wp-content/uploads/2023/08/jug
 end-3.jpg
CATEGORIES:Großes Blasorchester,Jugendorchester
LOCATION:https://www.google.com/maps/place/Vereinsheim+Eltinger+Hof+Mv+Lyra
 +Leonberg+e.V./@48.7865289,9.0039418,90m/data=!3m2!1e3!5s0x4799d8bf3deeac1
 5:0x125bcfc14898c24a!4m21!1m14!4m13!1m5!1m1!1s0x4799d967422437eb:0x29d34e5
 fe7966c3!2m2!1d9.0042072!2d48.7866244!1m6!1m2!1s0x4799d9963d2bd0af:0xbfdc0
 869c6d35275!2sHertichstra%C3%9Fe+30,+71229+Leonberg!2m2!1d9.004207!2d48.78
 66244!3m5!1s0x4799d967422437eb:0x29d34e5fe7966c3!8m2!3d48.7866244!4d9.0042
 072!16s%2Fg%2F11vljcpbtf?entry=ttu&g_ep=EgoyMDI1MDUwNS4wIKXMDSoASAFQAw%3D%
 3D
END:VEVENT
BEGIN:VTIMEZONE
TZID:Europe/Berlin
X-LIC-LOCATION:Europe/Berlin
BEGIN:DAYLIGHT
DTSTART:20250330T030000
TZOFFSETFROM:+0100
TZOFFSETTO:+0200
TZNAME:CEST
END:DAYLIGHT
END:VTIMEZONE
END:VCALENDAR