BEGIN:VCALENDAR
VERSION:2.0
PRODID:-//wp-events-plugin.com//7.2.3.1//EN
TZID:Europe/Berlin
X-WR-TIMEZONE:Europe/Berlin
BEGIN:VEVENT
UID:55@mvlyra.de
DTSTART;TZID=Europe/Berlin:20250928T140000
DTEND;TZID=Europe/Berlin:20250928T160000
DTSTAMP:20250916T050709Z
URL:https://mvlyra.de/termine/streuobstwiesenfest-in-weil-im-schoenbuch/
SUMMARY:Streuobstwiesenfest in Weil im Schönbuch
DESCRIPTION:Streuobstwiesenfest in Weil im Schönbuch
ATTACH;FMTTYPE=image/jpeg:https://mvlyra.de/wp-content/uploads/2025/08/str
 euobstwiesenfest2025.png
CATEGORIES:allgemein,Großes Blasorchester
LOCATION:Steinstraße 71229 Leonberg\, Steinstraße \, Leonberg\, BW\, 7122
 9\, BW\, Deutschland
X-APPLE-STRUCTURED-LOCATION;VALUE=URI;X-ADDRESS=Steinstraße \, Leonberg\, 
 BW\, 71229\, BW\, Deutschland;X-APPLE-RADIUS=100;X-TITLE=Steinstraße 7122
 9 Leonberg:geo:0,0
END:VEVENT
BEGIN:VTIMEZONE
TZID:Europe/Berlin
X-LIC-LOCATION:Europe/Berlin
BEGIN:DAYLIGHT
DTSTART:20250330T030000
TZOFFSETFROM:+0100
TZOFFSETTO:+0200
TZNAME:CEST
END:DAYLIGHT
END:VTIMEZONE
END:VCALENDAR