BEGIN:VCALENDAR
VERSION:2.0
PRODID:-//wp-events-plugin.com//7.2.3.1//EN
TZID:Europe/Berlin
X-WR-TIMEZONE:Europe/Berlin
BEGIN:VEVENT
UID:57@mvlyra.de
DTSTART;TZID=Europe/Berlin:20251224T173000
DTEND;TZID=Europe/Berlin:20251224T183000
DTSTAMP:20251123T182542Z
URL:https://mvlyra.de/termine/weihnachtsauftritt-in-der-michaelskirche-in-
 eltingen-2/
SUMMARY:Heilig' Abend in der Michaelskirche
DESCRIPTION:Weihnachtsgottesdienst in der Eltinger Michaelskirche
ATTACH;FMTTYPE=image/jpeg:https://mvlyra.de/wp-content/uploads/2023/12/Mic
 haelskirche.jpg
CATEGORIES:Großes Blasorchester,Jugendorchester
LOCATION:Michaelskirche\, Eltingen\, Kirchbachstraße 21\, Leonberg\, 71229
 \, Deutschland
X-APPLE-STRUCTURED-LOCATION;VALUE=URI;X-ADDRESS=Kirchbachstraße 21\, Leonb
 erg\, 71229\, Deutschland;X-APPLE-RADIUS=100;X-TITLE=Michaelskirche\, Elti
 ngen:geo:0,0
END:VEVENT
BEGIN:VTIMEZONE
TZID:Europe/Berlin
X-LIC-LOCATION:Europe/Berlin
BEGIN:STANDARD
DTSTART:20251026T020000
TZOFFSETFROM:+0200
TZOFFSETTO:+0100
TZNAME:CET
END:STANDARD
END:VTIMEZONE
END:VCALENDAR